BEGIN:VCALENDAR
VERSION:2.0
PRODID:-//Malwanchal University - ECPv6.1.2.2//NONSGML v1.0//EN
CALSCALE:GREGORIAN
METHOD:PUBLISH
X-ORIGINAL-URL:https://malwanchaluniversity.in
X-WR-CALDESC:Events for Malwanchal University
REFRESH-INTERVAL;VALUE=DURATION:PT1H
X-Robots-Tag:noindex
X-PUBLISHED-TTL:PT1H
BEGIN:VTIMEZONE
TZID:UTC
BEGIN:STANDARD
TZOFFSETFROM:+0000
TZOFFSETTO:+0000
TZNAME:UTC
DTSTART:20230101T000000
END:STANDARD
END:VTIMEZONE
BEGIN:VEVENT
DTSTART;VALUE=DATE:20230203
DTEND;VALUE=DATE:20230204
DTSTAMP:20260421T091641
CREATED:20230628T082407Z
LAST-MODIFIED:20240112T065106Z
UID:1579-1675382400-1675468799@malwanchaluniversity.in
SUMMARY:Lecture by Shri N K Tripathi\, Vice-Chancellor\, Malwanchal University to address the newly admitted students of MBBS Index Medical College.  03rd February\, 2023
DESCRIPTION:Good Doctors as well as good human beings in their lives \nMalwanchal university vice chancellor\, Shri N K Tripathi is addressing the newly admitted students of MBBS Index Medical College. He told the students to utilise their time for studies and all-round personality development. He exhorted them to strive to become physically\, mentally and morally strong. He told them that when they go out of the institution they should become good doctors as well as good human beings in their lives. Malwanchal university registrar Dr. M. Christopher and Index Medical College dean dr g.s. patel is student informed about the rules of college in Universtiy.
URL:https://malwanchaluniversity.in/activitiesevent/lecture-by-shri-n-k-tripathi-vice-chancellor-malwanchal-university-to-address-the-newly-admitted-students-of-mbbs-index-medical-college-03rd-february-2023/
CATEGORIES:Events 2023
ATTACH;FMTTYPE=image/jpeg:https://malwanchaluniversity.in/wp-content/uploads/2023/06/1-14.jpeg
END:VEVENT
END:VCALENDAR