BEGIN:VCALENDAR
VERSION:2.0
PRODID:-//Malwanchal University - ECPv6.1.2.2//NONSGML v1.0//EN
CALSCALE:GREGORIAN
METHOD:PUBLISH
X-ORIGINAL-URL:https://malwanchaluniversity.in
X-WR-CALDESC:Events for Malwanchal University
REFRESH-INTERVAL;VALUE=DURATION:PT1H
X-Robots-Tag:noindex
X-PUBLISHED-TTL:PT1H
BEGIN:VTIMEZONE
TZID:UTC
BEGIN:STANDARD
TZOFFSETFROM:+0000
TZOFFSETTO:+0000
TZNAME:UTC
DTSTART:20230101T000000
END:STANDARD
END:VTIMEZONE
BEGIN:VEVENT
DTSTART;VALUE=DATE:20230410
DTEND;VALUE=DATE:20230411
DTSTAMP:20260421T112328
CREATED:20250920T080704Z
LAST-MODIFIED:20250920T080704Z
UID:21310-1681084800-1681171199@malwanchaluniversity.in
SUMMARY:मालवांचल विश्वविद्यालय का द्वितीय दीक्षांत समारोह संपन्न  10th April\, 2023
DESCRIPTION:मालवांचल विश्वविद्यालय मालवा में गुणवत्ता पूर्ण शिक्षा के लिए प्रतिबद्ध \nनई शिक्षा नीति से आज शिक्षा जगत में नए बदलावों का दौर \nमालवांचल विश्वविद्यालय का 10 अप्रैल को द्वितीय दीक्षांत समारोह संपन्न \n3 मानद उपाधि \,60 पीएचडी और 56 को स्वर्ण पदक के साथ 900 विद्यार्थियों को \nमालवांचल विश्वविद्यालय\, इंदौर के द्वितीय दीक्षांत समारोह का आयोजन 10 अप्रैल को विश्वविद्यालय परिसर में संपन्न हुआ। 10 अप्रैल को आयोजित द्वितीय दीक्षांत समारोह के मुख्य अतिथि माननीय डॉ. वीरेंद्र कुमार सामाजिक न्याय और अधिकारिता मंत्रालय के कैबिनेट मंत्री भारत सरकार ने विद्यार्थियों को पीएचडी\,स्वर्ण पदक के साथ उपाधि प्रदान की। डॉ. वीरेंद्र कुमार ने कहा कि कोरोना के दौरान इंडेक्स समूह मालवांचल यूनिवर्सिटी ने जिस तरह समाज और प्रशासन के साथ सर्वोच्च योगदान दिया उसे हम कभी नहीं भूला सकते है। आज युवा शक्ति की यह धरोहर इंडेक्स समूह के लिए एक मजबूत आधार स्तंभ है। आज चिकित्सा शिक्षा के बढ़ते प्रभाव का असर है कि आज विदेशों से भी लोग हमारे देश में इलाज के लिए आ रहे है। उन्होंने कहा कि मप्र पहला ऐसा राज्य है जिसने प्रधानमंत्री नरेंद्र मोदी के हिन्दी में एमबीबीएस की पढ़ाई के सपने को साकार किया है। आज मप्र में हिन्दी में चिकित्सा पढ़ाई का एक नया दौर नई शिक्षा नीति के कारण देखने को मिला है। उन्होंने कहा कि अभिभावकों के लिए यह दीक्षांत समारोह केवल एक समारोह नहीं बल्कि सपनों के पूरा होने का उत्सव है। आज कई वर्षों की मेहनत के बाद उनका बेटा या बेटी डाक्टर बनने के सपने को पूरा कर पाए है। हर अभिभावक ने मुश्किल से मुश्किल दौर को पूरा कर बच्चों के सपने को पूरा करने में मददगार की भूमिका निभाई है। \nदीक्षांत समारोह की शुरुआत में अतिथियों द्वारा श्री शैलेन्द्र कुमार सिन्हा (केंद्रीय वस्तु सेवाकर के उप महानिदेशक)\, श्री विकास कुमार (दिल्ली मेट्रो रेल कॉर्पोरेशन के प्रबंध निदेशक)\,श्री राकेश कुमार श्रीवास्तव (वरिष्ठ आईएएस अधिकारी) को मानद उपाधि प्रदान की। \nशिक्षा आपके लिए नींव का पत्थर \nविशेष अतिथि श्री तुलसीराम सिलावट (जल संसाधन मंत्री\, मध्य प्रदेश शासन) ने दीक्षांत समारोह में उपाधि प्राप्त करने वाले छात्रों को बधाई दी। उन्होंने कहा कि सांवेर क्षेत्र में आसपास के ग्रामीण क्षेत्रों में बेहतर स्वास्थ्य और गुणवत्ता पूर्ण शिक्षा के लिए इंडेक्स समूह और मालवांचल यूनिवर्सिटी प्रतिबद्ध है। उन्होंने कहा कि आज बदलाव और विकास की दुनिया है उसमें शिक्षा आपके लिए नींव का पत्थर है। मालवांचल यूनिवर्सिटी मालवा में एक पहचान हासिल की। हमारे देश का अकेला प्रांत मप्र है यहां शिक्षा नीति का पालन यहां हो रहा है।आज हमारे देश का सौभाग्य है कि विश्व के पटल पर प्रधानमंत्री नरेंद्र मोदी हमारा नेतृत्व कर रहे है। हम विश्वगुरु बनने के सपने का साकार कर रहे है। \nअब समाज को स्वस्थ बनाने की सबसे बड़ी जिम्मेदारी \nश्री भरत शरण सिंह (अध्यक्ष\, मध्य प्रदेश निजी विश्वविद्यालय\, विनियामक आयोग\, भोपाल) ने कहा कि दीक्षांत के बाद आपके जीवन का एक नया अध्याय शुरू हुआ है। यह केवल एक डिग्री तक सीमित नहीं बल्कि आपको अब समाज को स्वस्थ बनाने की सबसे बड़ी जिम्मेदारी मिली है। एमबीबीएस\,नर्सिंग\,डेंटल के साथ विभिन्न कोर्सेस में उपाधि प्राप्त विद्यार्थी के जीवन की नई परीक्षा आज से शुरू हो गई है। आपको जीवन पर्यंत अध्ययन करना होगा तभी आप आपने कौशल को और बेहतर बना सकते है। \nइंडेक्स ग्रुप के चेयरमैन श्री सुरेशसिंह भदौरिया ने कहा कि मालवांचल विश्वविद्यालय में इंडेक्स समूह संस्थानों में 7 से अधिक शिक्षण संस्थानों में मेडिकल\, नर्सिंग\,डेंटल\,फिजियोथैरपी\,एग्रीकल्चर\,फॅार्मेसी सहित विभिन्न पाठ्यक्रम संचालित किए जा रहे है। इंडेक्स मेडिकल कॅालेज में जहां मप्र की सबसे अधिक 250 सीटों पर एमबीबीएस\,एमडी\,एम एस जैसे पाठ्यक्रम है। वाइस चेयरमैन श्री मयंकराज सिंह भदौरिया ने कहा कि मध्यभारत के सबसे बड़े चिकित्सा शिक्षण संस्थान मालवांचल यूनिवर्सिटी से पढ़ने का सपना पूरा हुआ है। अब इस पढ़ाई को मरीजों के बेहतर इलाज के लिए उपयोग करने का समय आ गया है। आप अपने ज्ञान और कौशल के जरिए उपाधि और स्वर्णपदक प्राप्त करने में सफल हुए है। अब इसके बाद सभी की जिम्मेदारी है कि आप समाज के बेहतर स्वास्थ्य की बड़ी जिम्मेदारी को निभाना है। \nमालवांचल विश्वविद्यालय के वाइस चांसलर श्री एन के त्रिपाठी ने बताया कि मालवांचल विश्वविद्यालय द्वितीय दीक्षांत समारोह में 900 विद्यार्थियों को उपाधि दी जाना है। इसमें 500 से अधिक छात्रों को समारोह में मुख्य अतिथियों द्वारा उपाधि प्रदान की गई। 3 मानद उपाधि\, 56 स्वर्ण पदक\,60 पीएचडी प्रदान की गई। दीक्षांत समारोह में उपाधि प्राप्त सभी विद्यार्थियों को उनके नए दौर की शुरूआत हुई है। दीक्षांत समारोह में एमबीबीएस\,नर्सिंग\,पैरामेडिकल\,फार्मेसी के विद्यार्थियों को उपाधि और स्वर्ण पदक दिए गए। \nमालवांचल विश्वविद्यालय के प्रो.चांसलर डॉ. संजीव नारंग\, प्रो. वाइस चांसलर डॉ. रामगुलाम राजदान\, रजिस्ट्रार डॅा.एम क्रिस्टोफर\, इंडेक्स के डायरेक्टर श्री आर एस राणावत\, एडिशनल डायरेक्टर श्री आर सी यादव\, इंडेक्स मेडिकल कॉलेज के डीन डॉ. जी. एस. पटेल\,डीन डॉ. सतीश कंरदीकर\,प्राचार्या डॉ. स्मृति जी सोलोमन\, प्राचार्या डॉ. रेशमा खुराना\,प्राचार्य डॉ. जावेद खान पठा एवं अन्य डिपार्टमेंट के डीन\, प्रोफेसर और विद्यार्थी भी उपस्थित थे।
URL:https://malwanchaluniversity.in/activitiesevent/%e0%a4%ae%e0%a4%be%e0%a4%b2%e0%a4%b5%e0%a4%be%e0%a4%82%e0%a4%9a%e0%a4%b2-%e0%a4%b5%e0%a4%bf%e0%a4%b6%e0%a5%8d%e0%a4%b5%e0%a4%b5%e0%a4%bf%e0%a4%a6%e0%a5%8d%e0%a4%af%e0%a4%be%e0%a4%b2%e0%a4%af-%e0%a4%95/
CATEGORIES:Events 2023
ATTACH;FMTTYPE=image/jpeg:https://malwanchaluniversity.in/wp-content/uploads/2025/09/8-1.jpeg
END:VEVENT
END:VCALENDAR